BEGIN:VCALENDAR
VERSION:2.0
PRODID:-//Annie&#039;s Project New Jersey - ECPv6.7.0//NONSGML v1.0//EN
CALSCALE:GREGORIAN
METHOD:PUBLISH
X-ORIGINAL-URL:https://anniesproject.rutgers.edu
X-WR-CALDESC:Events for Annie&#039;s Project New Jersey
REFRESH-INTERVAL;VALUE=DURATION:PT1H
X-Robots-Tag:noindex
X-PUBLISHED-TTL:PT1H
BEGIN:VTIMEZONE
TZID:UTC
BEGIN:STANDARD
TZOFFSETFROM:+0000
TZOFFSETTO:+0000
TZNAME:UTC
DTSTART:20210101T000000
END:STANDARD
END:VTIMEZONE
BEGIN:VEVENT
DTSTART;TZID=UTC:20211104T180000
DTEND;TZID=UTC:20211104T203000
DTSTAMP:20260421T120119
CREATED:20220401T184144Z
LAST-MODIFIED:20220401T184145Z
UID:517-1636048800-1636057800@anniesproject.rutgers.edu
SUMMARY:Annie’s Project: New Jersey 10 Years of Empowering New Jersey Farmers
DESCRIPTION:Keynote speaker:  Bridget Behe\, Professor\, Michigan State University\nDr. Bridget Behe gives talks to state\, regional\, and national businesses and associations\, helping to better their marketing and management practices to improve profitability and sustainability. Her “Marketing Munchies” website features her 5-15 minute podcasts using research-based information on horticulture marketing \, and  can be accessed here (Connect-2-Consumer) or on a favorite podcast provider. Her recent peer-reviewed publications are also available on this website. \n Description of Event\nWe are excited to be celebrating 10 years of Annie’s Project in New Jersey!  We are having an evening workshop online on November 4th to celebrate and give women farmers information to help manage their farm risks through and post-pandemic from 6PM to 8:30PM. \nOur Keynote speaker\, Dr. Bridget Behe\, Professor and Extension Specialist in Marketing at Michigan State University\, will answer the number one question farmers have been asking us\, “ How can farmers turn the new customers they got during the pandemic into permanent customers?”  Dr. Brian Schilling\, Director of Rutgers Cooperative Extension will address recent direct marketing and agritourism issues.  We will have breakout sessions on the topics of Succession Planning\, Marketing\, and Production. Finally\, we will have a panel of women farmers who will discuss what worked and what they would change. \nWorkshop Agenda \nNo charge\, but you must register to receive the link to attend the workshop.
URL:https://anniesproject.rutgers.edu/event/annies-project-new-jersey-10-years-of-empowering-new-jersey-farmers/
CATEGORIES:Workshops
END:VEVENT
END:VCALENDAR